BEGIN:VCALENDAR
VERSION:2.0
PRODID:-//Prince of Peace UCC - ECPv6.15.17//NONSGML v1.0//EN
CALSCALE:GREGORIAN
METHOD:PUBLISH
X-WR-CALNAME:Prince of Peace UCC
X-ORIGINAL-URL:https://uccprinceofpeace.com
X-WR-CALDESC:Events for Prince of Peace UCC
REFRESH-INTERVAL;VALUE=DURATION:PT1H
X-Robots-Tag:noindex
X-PUBLISHED-TTL:PT1H
BEGIN:VTIMEZONE
TZID:UTC
BEGIN:STANDARD
TZOFFSETFROM:+0000
TZOFFSETTO:+0000
TZNAME:UTC
DTSTART:20140101T000000
END:STANDARD
END:VTIMEZONE
BEGIN:VEVENT
DTSTART;TZID=UTC:20151121T083000
DTEND;TZID=UTC:20151121T110000
DTSTAMP:20260425T202329
CREATED:20151118T073537Z
LAST-MODIFIED:20151118T073537Z
UID:5702-1448094600-1448103600@uccprinceofpeace.com
SUMMARY:Youth Service Project
DESCRIPTION:Youth are invited to help give out groceries to families in need.  Meet at the Interchurch Food Pantry of Johnson County\, 211 Commerce Drive\, Franklin.
URL:https://uccprinceofpeace.com/event/youth-service-project/
LOCATION:Interchurch Food Pantry\, 211 Commerce Dr.\, Franklin\, IN\, 46131\, United States
CATEGORIES:Youth
ATTACH;FMTTYPE=image/png:https://uccprinceofpeace.com/wp-content/uploads/2015/11/ic-food-pantry.png
ORGANIZER;CN="Prince of Peace UCC":MAILTO:info@uccprinceofpeace.com
END:VEVENT
END:VCALENDAR