BEGIN:VCALENDAR
VERSION:2.0
PRODID:-//Prince of Peace UCC - ECPv6.15.17//NONSGML v1.0//EN
CALSCALE:GREGORIAN
METHOD:PUBLISH
X-WR-CALNAME:Prince of Peace UCC
X-ORIGINAL-URL:https://uccprinceofpeace.com
X-WR-CALDESC:Events for Prince of Peace UCC
REFRESH-INTERVAL;VALUE=DURATION:PT1H
X-Robots-Tag:noindex
X-PUBLISHED-TTL:PT1H
BEGIN:VTIMEZONE
TZID:UTC
BEGIN:STANDARD
TZOFFSETFROM:+0000
TZOFFSETTO:+0000
TZNAME:UTC
DTSTART:20140101T000000
END:STANDARD
END:VTIMEZONE
BEGIN:VEVENT
DTSTART;TZID=UTC:20160529T093000
DTEND;TZID=UTC:20160529T103000
DTSTAMP:20260425T151715
CREATED:20160505T083157Z
LAST-MODIFIED:20160505T083157Z
UID:6056-1464514200-1464517800@uccprinceofpeace.com
SUMMARY:5th Sunday/Music Sunday
DESCRIPTION:5th Sunday/Music Sunday/Select your favorite hymn
URL:https://uccprinceofpeace.com/event/5th-sundaymusic-sunday/
LOCATION:Prince of Peace UCC\, 3050 West Smokey Row Rd.\, Bargersville\, 46106\, United States
CATEGORIES:Worship
ATTACH;FMTTYPE=image/jpeg:https://uccprinceofpeace.com/wp-content/uploads/2016/03/choir.jpg
ORGANIZER;CN="Prince of Peace UCC":MAILTO:info@uccprinceofpeace.com
END:VEVENT
BEGIN:VEVENT
DTSTART;TZID=UTC:20160515T093000
DTEND;TZID=UTC:20160515T103000
DTSTAMP:20260425T151715
CREATED:20160505T081437Z
LAST-MODIFIED:20160505T081849Z
UID:6045-1463304600-1463308200@uccprinceofpeace.com
SUMMARY:Preschool Singing Program
DESCRIPTION:
URL:https://uccprinceofpeace.com/event/preschool-singing-program/
CATEGORIES:Worship
ATTACH;FMTTYPE=image/jpeg:https://uccprinceofpeace.com/wp-content/uploads/2016/03/choir.jpg
END:VEVENT
BEGIN:VEVENT
DTSTART;VALUE=DATE:20160325
DTEND;VALUE=DATE:20160326
DTSTAMP:20260425T151715
CREATED:20160315T071809Z
LAST-MODIFIED:20160315T071809Z
UID:6006-1458864000-1458950399@uccprinceofpeace.com
SUMMARY:Good Friday
DESCRIPTION:
URL:https://uccprinceofpeace.com/event/good-friday/
CATEGORIES:Worship
ATTACH;FMTTYPE=image/jpeg:https://uccprinceofpeace.com/wp-content/uploads/2016/03/goodfri.jpg
END:VEVENT
BEGIN:VEVENT
DTSTART;VALUE=DATE:20160324
DTEND;VALUE=DATE:20160325
DTSTAMP:20260425T151715
CREATED:20160315T071737Z
LAST-MODIFIED:20160315T071737Z
UID:6005-1458777600-1458863999@uccprinceofpeace.com
SUMMARY:Maundy Thursday
DESCRIPTION:
URL:https://uccprinceofpeace.com/event/maundy-thursday/
LOCATION:Prince of Peace UCC\, 3050 West Smokey Row Rd.\, Bargersville\, 46106\, United States
CATEGORIES:Worship
ATTACH;FMTTYPE=image/jpeg:https://uccprinceofpeace.com/wp-content/uploads/2016/03/maundythu.jpg
ORGANIZER;CN="Prince of Peace UCC":MAILTO:info@uccprinceofpeace.com
END:VEVENT
BEGIN:VEVENT
DTSTART;TZID=UTC:20151224T190000
DTEND;TZID=UTC:20151224T200000
DTSTAMP:20260425T151715
CREATED:20151215T021719Z
LAST-MODIFIED:20151215T021719Z
UID:5926-1450983600-1450987200@uccprinceofpeace.com
SUMMARY:Christmas Eve Worship Services
DESCRIPTION:
URL:https://uccprinceofpeace.com/event/christmas-eve-worship-services/
LOCATION:Prince of Peace UCC\, 3050 West Smokey Row Rd.\, Bargersville\, 46106\, United States
CATEGORIES:Worship
ATTACH;FMTTYPE=image/jpeg:https://uccprinceofpeace.com/wp-content/uploads/2015/12/candlelight.jpg
ORGANIZER;CN="Prince of Peace UCC":MAILTO:info@uccprinceofpeace.com
END:VEVENT
BEGIN:VEVENT
DTSTART;TZID=UTC:20151220T093000
DTEND;TZID=UTC:20151220T103000
DTSTAMP:20260425T151715
CREATED:20151215T021502Z
LAST-MODIFIED:20151215T022717Z
UID:5924-1450603800-1450607400@uccprinceofpeace.com
SUMMARY:Christmas Program
DESCRIPTION:
URL:https://uccprinceofpeace.com/event/christmas-program/
LOCATION:Prince of Peace UCC\, 3050 West Smokey Row Rd.\, Bargersville\, 46106\, United States
CATEGORIES:Worship
ATTACH;FMTTYPE=image/jpeg:https://uccprinceofpeace.com/wp-content/uploads/2015/12/nativity.jpg
ORGANIZER;CN="Prince of Peace UCC":MAILTO:info@uccprinceofpeace.com
END:VEVENT
END:VCALENDAR