BEGIN:VCALENDAR
VERSION:2.0
PRODID:-//Prince of Peace UCC - ECPv6.15.17//NONSGML v1.0//EN
CALSCALE:GREGORIAN
METHOD:PUBLISH
X-WR-CALNAME:Prince of Peace UCC
X-ORIGINAL-URL:https://uccprinceofpeace.com
X-WR-CALDESC:Events for Prince of Peace UCC
REFRESH-INTERVAL;VALUE=DURATION:PT1H
X-Robots-Tag:noindex
X-PUBLISHED-TTL:PT1H
BEGIN:VTIMEZONE
TZID:UTC
BEGIN:STANDARD
TZOFFSETFROM:+0000
TZOFFSETTO:+0000
TZNAME:UTC
DTSTART:20140101T000000
END:STANDARD
END:VTIMEZONE
BEGIN:VEVENT
DTSTART;TZID=UTC:20160203T163000
DTEND;TZID=UTC:20160203T193000
DTSTAMP:20260425T180620
CREATED:20151215T020303Z
LAST-MODIFIED:20160202T054550Z
UID:5949-1454517000-1454527800@uccprinceofpeace.com
SUMMARY:Violin & Piano Lessons
DESCRIPTION:Violin and piano lessons for children.
URL:https://uccprinceofpeace.com/event/violin-piano-lessons-3-2-2-2-2/
LOCATION:Prince of Peace UCC\, 3050 West Smokey Row Rd.\, Bargersville\, 46106\, United States
CATEGORIES:Rehearsals
ATTACH;FMTTYPE=image/jpeg:https://uccprinceofpeace.com/wp-content/uploads/2015/12/piano.jpg
ORGANIZER;CN="Prince of Peace UCC":MAILTO:info@uccprinceofpeace.com
END:VEVENT
BEGIN:VEVENT
DTSTART;TZID=UTC:20160127T183000
DTEND;TZID=UTC:20160127T193000
DTSTAMP:20260425T180620
CREATED:20151118T074259Z
LAST-MODIFIED:20151215T022446Z
UID:5913-1453919400-1453923000@uccprinceofpeace.com
SUMMARY:Bell Choir Rehearsal
DESCRIPTION:Bell choir practice every Wednesday at 6:30 p.m.
URL:https://uccprinceofpeace.com/event/bell-choir-practice-2-2-2-2-2-2/
LOCATION:Prince of Peace UCC\, 3050 West Smokey Row Rd.\, Bargersville\, 46106\, United States
CATEGORIES:Rehearsals
ATTACH;FMTTYPE=image/jpeg:https://uccprinceofpeace.com/wp-content/uploads/2015/11/handbells.jpg
ORGANIZER;CN="Prince of Peace UCC":MAILTO:info@uccprinceofpeace.com
END:VEVENT
BEGIN:VEVENT
DTSTART;TZID=UTC:20160127T163000
DTEND;TZID=UTC:20160127T193000
DTSTAMP:20260425T180620
CREATED:20151215T020303Z
LAST-MODIFIED:20151215T022503Z
UID:5923-1453912200-1453923000@uccprinceofpeace.com
SUMMARY:Violin & Piano Lessons
DESCRIPTION:Violin and piano lessons for children.
URL:https://uccprinceofpeace.com/event/violin-piano-lessons-3-2-2-2/
LOCATION:Prince of Peace UCC\, 3050 West Smokey Row Rd.\, Bargersville\, 46106\, United States
CATEGORIES:Rehearsals
ATTACH;FMTTYPE=image/jpeg:https://uccprinceofpeace.com/wp-content/uploads/2015/12/piano.jpg
ORGANIZER;CN="Prince of Peace UCC":MAILTO:info@uccprinceofpeace.com
END:VEVENT
BEGIN:VEVENT
DTSTART;TZID=UTC:20160120T183000
DTEND;TZID=UTC:20160120T193000
DTSTAMP:20260425T180620
CREATED:20151118T074259Z
LAST-MODIFIED:20151215T022520Z
UID:5912-1453314600-1453318200@uccprinceofpeace.com
SUMMARY:Bell Choir Rehearsal
DESCRIPTION:Bell choir practice every Wednesday at 6:30 p.m.
URL:https://uccprinceofpeace.com/event/bell-choir-practice-2-2-2-2-2/
LOCATION:Prince of Peace UCC\, 3050 West Smokey Row Rd.\, Bargersville\, 46106\, United States
CATEGORIES:Rehearsals
ATTACH;FMTTYPE=image/jpeg:https://uccprinceofpeace.com/wp-content/uploads/2015/11/handbells.jpg
ORGANIZER;CN="Prince of Peace UCC":MAILTO:info@uccprinceofpeace.com
END:VEVENT
BEGIN:VEVENT
DTSTART;TZID=UTC:20160120T163000
DTEND;TZID=UTC:20160120T193000
DTSTAMP:20260425T180620
CREATED:20151215T020303Z
LAST-MODIFIED:20151215T020507Z
UID:5922-1453307400-1453318200@uccprinceofpeace.com
SUMMARY:Violin & Piano Lessons
DESCRIPTION:Violin and piano lessons for children.
URL:https://uccprinceofpeace.com/event/violin-piano-lessons-3-2-2/
LOCATION:Prince of Peace UCC\, 3050 West Smokey Row Rd.\, Bargersville\, 46106\, United States
CATEGORIES:Rehearsals
ATTACH;FMTTYPE=image/jpeg:https://uccprinceofpeace.com/wp-content/uploads/2015/12/piano.jpg
ORGANIZER;CN="Prince of Peace UCC":MAILTO:info@uccprinceofpeace.com
END:VEVENT
BEGIN:VEVENT
DTSTART;TZID=UTC:20160113T183000
DTEND;TZID=UTC:20160113T193000
DTSTAMP:20260425T180620
CREATED:20151118T074259Z
LAST-MODIFIED:20151215T014531Z
UID:5911-1452709800-1452713400@uccprinceofpeace.com
SUMMARY:Bell Choir Rehearsal
DESCRIPTION:Bell choir practice every Wednesday at 6:30 p.m.
URL:https://uccprinceofpeace.com/event/bell-choir-practice-2-2-2-2/
LOCATION:Prince of Peace UCC\, 3050 West Smokey Row Rd.\, Bargersville\, 46106\, United States
CATEGORIES:Rehearsals
ATTACH;FMTTYPE=image/jpeg:https://uccprinceofpeace.com/wp-content/uploads/2015/11/handbells.jpg
ORGANIZER;CN="Prince of Peace UCC":MAILTO:info@uccprinceofpeace.com
END:VEVENT
BEGIN:VEVENT
DTSTART;TZID=UTC:20160113T163000
DTEND;TZID=UTC:20160113T193000
DTSTAMP:20260425T180620
CREATED:20151215T020303Z
LAST-MODIFIED:20151215T020451Z
UID:5921-1452702600-1452713400@uccprinceofpeace.com
SUMMARY:Violin & Piano Lessons
DESCRIPTION:Violin and piano lessons for children.
URL:https://uccprinceofpeace.com/event/violin-piano-lessons-3-2/
LOCATION:Prince of Peace UCC\, 3050 West Smokey Row Rd.\, Bargersville\, 46106\, United States
CATEGORIES:Rehearsals
ATTACH;FMTTYPE=image/jpeg:https://uccprinceofpeace.com/wp-content/uploads/2015/12/piano.jpg
ORGANIZER;CN="Prince of Peace UCC":MAILTO:info@uccprinceofpeace.com
END:VEVENT
BEGIN:VEVENT
DTSTART;TZID=UTC:20160106T183000
DTEND;TZID=UTC:20160106T193000
DTSTAMP:20260425T180620
CREATED:20151118T074259Z
LAST-MODIFIED:20151215T014506Z
UID:5910-1452105000-1452108600@uccprinceofpeace.com
SUMMARY:Bell Choir Rehearsal
DESCRIPTION:Bell choir practice every Wednesday at 6:30 p.m.
URL:https://uccprinceofpeace.com/event/bell-choir-practice-2-2-2/
LOCATION:Prince of Peace UCC\, 3050 West Smokey Row Rd.\, Bargersville\, 46106\, United States
CATEGORIES:Rehearsals
ATTACH;FMTTYPE=image/jpeg:https://uccprinceofpeace.com/wp-content/uploads/2015/11/handbells.jpg
ORGANIZER;CN="Prince of Peace UCC":MAILTO:info@uccprinceofpeace.com
END:VEVENT
BEGIN:VEVENT
DTSTART;TZID=UTC:20160106T163000
DTEND;TZID=UTC:20160106T193000
DTSTAMP:20260425T180620
CREATED:20151215T020303Z
LAST-MODIFIED:20151215T020415Z
UID:5920-1452097800-1452108600@uccprinceofpeace.com
SUMMARY:Violin & Piano Lessons
DESCRIPTION:Violin and piano lessons for children.
URL:https://uccprinceofpeace.com/event/violin-piano-lessons-3/
LOCATION:Prince of Peace UCC\, 3050 West Smokey Row Rd.\, Bargersville\, 46106\, United States
CATEGORIES:Rehearsals
ATTACH;FMTTYPE=image/jpeg:https://uccprinceofpeace.com/wp-content/uploads/2015/12/piano.jpg
ORGANIZER;CN="Prince of Peace UCC":MAILTO:info@uccprinceofpeace.com
END:VEVENT
BEGIN:VEVENT
DTSTART;TZID=UTC:20151230T183000
DTEND;TZID=UTC:20151230T193000
DTSTAMP:20260425T180620
CREATED:20151118T074259Z
LAST-MODIFIED:20151215T014428Z
UID:5909-1451500200-1451503800@uccprinceofpeace.com
SUMMARY:Bell Choir Rehearsal
DESCRIPTION:Bell choir practice every Wednesday at 6:30 p.m.
URL:https://uccprinceofpeace.com/event/bell-choir-practice-2-2/
LOCATION:Prince of Peace UCC\, 3050 West Smokey Row Rd.\, Bargersville\, 46106\, United States
CATEGORIES:Rehearsals
ATTACH;FMTTYPE=image/jpeg:https://uccprinceofpeace.com/wp-content/uploads/2015/11/handbells.jpg
ORGANIZER;CN="Prince of Peace UCC":MAILTO:info@uccprinceofpeace.com
END:VEVENT
BEGIN:VEVENT
DTSTART;TZID=UTC:20151228T163000
DTEND;TZID=UTC:20151228T193000
DTSTAMP:20260425T180620
CREATED:20151215T020303Z
LAST-MODIFIED:20151215T020334Z
UID:5919-1451320200-1451331000@uccprinceofpeace.com
SUMMARY:Violin & Piano Lessons
DESCRIPTION:Violin and piano lessons for children.
URL:https://uccprinceofpeace.com/event/violin-piano-lessons-2/
LOCATION:Prince of Peace UCC\, 3050 West Smokey Row Rd.\, Bargersville\, 46106\, United States
CATEGORIES:Rehearsals
ATTACH;FMTTYPE=image/jpeg:https://uccprinceofpeace.com/wp-content/uploads/2015/12/piano.jpg
ORGANIZER;CN="Prince of Peace UCC":MAILTO:info@uccprinceofpeace.com
END:VEVENT
BEGIN:VEVENT
DTSTART;TZID=UTC:20151221T084500
DTEND;TZID=UTC:20151221T091500
DTSTAMP:20260425T180620
CREATED:20151110T023218Z
LAST-MODIFIED:20151214T174913Z
UID:5838-1450687500-1450689300@uccprinceofpeace.com
SUMMARY:Dulcimer Choir Rehearsal
DESCRIPTION:
URL:https://uccprinceofpeace.com/event/dulcimer-choir-rehearsal-2-2/
LOCATION:Prince of Peace UCC\, 3050 West Smokey Row Rd.\, Bargersville\, 46106\, United States
CATEGORIES:Rehearsals
ATTACH;FMTTYPE=image/jpeg:https://uccprinceofpeace.com/wp-content/uploads/2015/11/Dulcimershapes.jpg
ORGANIZER;CN="Prince of Peace UCC":MAILTO:info@uccprinceofpeace.com
END:VEVENT
BEGIN:VEVENT
DTSTART;TZID=UTC:20151216T183000
DTEND;TZID=UTC:20151216T193000
DTSTAMP:20260425T180620
CREATED:20151118T074259Z
LAST-MODIFIED:20151214T174748Z
UID:5837-1450290600-1450294200@uccprinceofpeace.com
SUMMARY:Bell Choir Rehearsal
DESCRIPTION:Bell choir practice every Wednesday at 6:30 p.m.
URL:https://uccprinceofpeace.com/event/bell-choir-practice-2/
LOCATION:Prince of Peace UCC\, 3050 West Smokey Row Rd.\, Bargersville\, 46106\, United States
CATEGORIES:Rehearsals
ATTACH;FMTTYPE=image/jpeg:https://uccprinceofpeace.com/wp-content/uploads/2015/11/handbells.jpg
ORGANIZER;CN="Prince of Peace UCC":MAILTO:info@uccprinceofpeace.com
END:VEVENT
BEGIN:VEVENT
DTSTART;TZID=UTC:20151216T163000
DTEND;TZID=UTC:20151216T193000
DTSTAMP:20260425T180620
CREATED:20151215T020303Z
LAST-MODIFIED:20151215T020303Z
UID:5917-1450283400-1450294200@uccprinceofpeace.com
SUMMARY:Violin & Piano Lessons
DESCRIPTION:Violin and piano lessons for children.
URL:https://uccprinceofpeace.com/event/violin-piano-lessons/
LOCATION:Prince of Peace UCC\, 3050 West Smokey Row Rd.\, Bargersville\, 46106\, United States
CATEGORIES:Rehearsals
ATTACH;FMTTYPE=image/jpeg:https://uccprinceofpeace.com/wp-content/uploads/2015/12/piano.jpg
ORGANIZER;CN="Prince of Peace UCC":MAILTO:info@uccprinceofpeace.com
END:VEVENT
BEGIN:VEVENT
DTSTART;TZID=UTC:20151125T183000
DTEND;TZID=UTC:20151125T193000
DTSTAMP:20260425T180620
CREATED:20151118T074259Z
LAST-MODIFIED:20151118T074330Z
UID:5706-1448476200-1448479800@uccprinceofpeace.com
SUMMARY:Bell Choir Rehearsal
DESCRIPTION:Bell choir practice every Wednesday at 6:30 p.m.
URL:https://uccprinceofpeace.com/event/bell-choir-practice/
LOCATION:Prince of Peace UCC\, 3050 West Smokey Row Rd.\, Bargersville\, 46106\, United States
CATEGORIES:Rehearsals
ATTACH;FMTTYPE=image/jpeg:https://uccprinceofpeace.com/wp-content/uploads/2015/11/handbells.jpg
ORGANIZER;CN="Prince of Peace UCC":MAILTO:info@uccprinceofpeace.com
END:VEVENT
BEGIN:VEVENT
DTSTART;TZID=UTC:20151122T084500
DTEND;TZID=UTC:20151122T091500
DTSTAMP:20260425T180620
CREATED:20151110T023218Z
LAST-MODIFIED:20151110T031759Z
UID:5591-1448181900-1448183700@uccprinceofpeace.com
SUMMARY:Dulcimer Choir Rehearsal
DESCRIPTION:
URL:https://uccprinceofpeace.com/event/dulcimer-choir-rehearsal-2/
LOCATION:Prince of Peace UCC\, 3050 West Smokey Row Rd.\, Bargersville\, 46106\, United States
CATEGORIES:Rehearsals
ATTACH;FMTTYPE=image/jpeg:https://uccprinceofpeace.com/wp-content/uploads/2015/11/Dulcimershapes.jpg
ORGANIZER;CN="Prince of Peace UCC":MAILTO:info@uccprinceofpeace.com
END:VEVENT
BEGIN:VEVENT
DTSTART;TZID=UTC:20151115T084500
DTEND;TZID=UTC:20151115T091500
DTSTAMP:20260425T180620
CREATED:20151110T023218Z
LAST-MODIFIED:20151110T031333Z
UID:5568-1447577100-1447578900@uccprinceofpeace.com
SUMMARY:Dulcimer Choir Rehearsal
DESCRIPTION:
URL:https://uccprinceofpeace.com/event/dulcimer-choir-rehearsal/
LOCATION:Prince of Peace UCC\, 3050 West Smokey Row Rd.\, Bargersville\, 46106\, United States
CATEGORIES:Rehearsals
ATTACH;FMTTYPE=image/jpeg:https://uccprinceofpeace.com/wp-content/uploads/2015/11/Dulcimershapes.jpg
ORGANIZER;CN="Prince of Peace UCC":MAILTO:info@uccprinceofpeace.com
END:VEVENT
END:VCALENDAR