BEGIN:VCALENDAR
VERSION:2.0
PRODID:-//Prince of Peace UCC - ECPv6.15.17//NONSGML v1.0//EN
CALSCALE:GREGORIAN
METHOD:PUBLISH
X-WR-CALNAME:Prince of Peace UCC
X-ORIGINAL-URL:https://uccprinceofpeace.com
X-WR-CALDESC:Events for Prince of Peace UCC
REFRESH-INTERVAL;VALUE=DURATION:PT1H
X-Robots-Tag:noindex
X-PUBLISHED-TTL:PT1H
BEGIN:VTIMEZONE
TZID:America/Halifax
BEGIN:DAYLIGHT
TZOFFSETFROM:-0400
TZOFFSETTO:-0300
TZNAME:ADT
DTSTART:20160313T060000
END:DAYLIGHT
BEGIN:STANDARD
TZOFFSETFROM:-0300
TZOFFSETTO:-0400
TZNAME:AST
DTSTART:20161106T050000
END:STANDARD
BEGIN:DAYLIGHT
TZOFFSETFROM:-0400
TZOFFSETTO:-0300
TZNAME:ADT
DTSTART:20170312T060000
END:DAYLIGHT
BEGIN:STANDARD
TZOFFSETFROM:-0300
TZOFFSETTO:-0400
TZNAME:AST
DTSTART:20171105T050000
END:STANDARD
BEGIN:DAYLIGHT
TZOFFSETFROM:-0400
TZOFFSETTO:-0300
TZNAME:ADT
DTSTART:20180311T060000
END:DAYLIGHT
BEGIN:STANDARD
TZOFFSETFROM:-0300
TZOFFSETTO:-0400
TZNAME:AST
DTSTART:20181104T050000
END:STANDARD
END:VTIMEZONE
BEGIN:VTIMEZONE
TZID:UTC
BEGIN:STANDARD
TZOFFSETFROM:+0000
TZOFFSETTO:+0000
TZNAME:UTC
DTSTART:20140101T000000
END:STANDARD
END:VTIMEZONE
BEGIN:VEVENT
DTSTART;TZID=America/Halifax:20171210T180000
DTEND;TZID=America/Halifax:20171210T200000
DTSTAMP:20260425T103444
CREATED:20171201T030457Z
LAST-MODIFIED:20171201T042658Z
UID:6183-1512928800-1512936000@uccprinceofpeace.com
SUMMARY:Dinner at the Iron Skillet
DESCRIPTION:Sunday December 10th at 6:00 p.m.  We will be having dinner at the Iron Skillet\, which is a family style dining experience\, and have arranged a group rate of $25 per person (which includes tip).  If you are interested in going contact Nancy Clark through the web page.
URL:https://uccprinceofpeace.com/event/dinner-at-the-iron-skillet/
LOCATION:The Iron Skillet\, 2489 West 30th Street\, Indianapolist\, IN\, 46222\, United States
CATEGORIES:Fellowships/Outings
ATTACH;FMTTYPE=image/jpeg:https://uccprinceofpeace.com/wp-content/uploads/2017/11/iron-skillet.jpeg
END:VEVENT
BEGIN:VEVENT
DTSTART;TZID=America/Halifax:20171209T140000
DTEND;TZID=America/Halifax:20171209T170000
DTSTAMP:20260425T103444
CREATED:20171201T030140Z
LAST-MODIFIED:20171201T042617Z
UID:6181-1512828000-1512838800@uccprinceofpeace.com
SUMMARY:Polar Express Movie and Craft Day
DESCRIPTION:Saturday December 9th 2:00-5:00 p.m.  Children are welcome to put on their pajamas\, bring their favorite blanket or pillow and watch the Christmas classic The Polar Express while enjoying some cookies and hot chocolate.  There will also be a craft for children to make to give as a Christmas present to their family.  Parents are welcome to stay\, or can take the time to get some holiday shopping done. Please bring a can of food which will be donated to the Interchurch Food Pantry.
URL:https://uccprinceofpeace.com/event/polar-express-movie-and-craft-day/
LOCATION:Prince of Peace UCC\, 3050 West Smokey Row Rd.\, Bargersville\, 46106\, United States
CATEGORIES:Fellowships/Outings
ATTACH;FMTTYPE=image/jpeg:https://uccprinceofpeace.com/wp-content/uploads/2017/11/polar-express.jpeg
END:VEVENT
BEGIN:VEVENT
DTSTART;TZID=UTC:20171029T170000
DTEND;TZID=UTC:20171029T190000
DTSTAMP:20260425T103444
CREATED:20171008T051412Z
LAST-MODIFIED:20171008T051412Z
UID:6157-1509296400-1509303600@uccprinceofpeace.com
SUMMARY:Trunk or Treat
DESCRIPTION:Come join us for PoP’s first annual trunk or treat event. Family friendly\, games and a good time open to all!
URL:https://uccprinceofpeace.com/event/trunk-or-treat/
LOCATION:Prince of Peace UCC\, 3050 West Smokey Row Rd.\, Bargersville\, 46106\, United States
CATEGORIES:Fellowships/Outings
ATTACH;FMTTYPE=image/jpeg:https://uccprinceofpeace.com/wp-content/uploads/2017/10/Trunk-or-treat1.jpg
ORGANIZER;CN="Prince of Peace UCC":MAILTO:info@uccprinceofpeace.com
END:VEVENT
BEGIN:VEVENT
DTSTART;TZID=UTC:20160515T130000
DTEND;TZID=UTC:20160515T150000
DTSTAMP:20260425T103444
CREATED:20160505T081819Z
LAST-MODIFIED:20160505T081819Z
UID:6046-1463317200-1463324400@uccprinceofpeace.com
SUMMARY:Miniature Golf Outing - Orchard Golf
DESCRIPTION:
URL:https://uccprinceofpeace.com/event/miniature-golf-outing-orchard-golf/
LOCATION:Orchard Golf Center\, 251 IN-135\, Greenwood\, 46142\, United States
CATEGORIES:Fellowships/Outings
ATTACH;FMTTYPE=image/jpeg:https://uccprinceofpeace.com/wp-content/uploads/2016/05/orchard-golf.jpg
END:VEVENT
BEGIN:VEVENT
DTSTART;TZID=UTC:20160225T080000
DTEND;TZID=UTC:20160225T170000
DTSTAMP:20260425T103444
CREATED:20160202T065845Z
LAST-MODIFIED:20160202T070441Z
UID:5966-1456387200-1456419600@uccprinceofpeace.com
SUMMARY:Happy Hour @ the ISO
DESCRIPTION:Happy Hour at the Symphony / Concert featuring artists in residence “Time for Three”.
URL:https://uccprinceofpeace.com/event/happy-hour-the-iso/
LOCATION:Hilbert Circle Theatre\, 45 Monument Cir.\, Indianapolis\, IN\, 46204\, United States
CATEGORIES:Fellowships/Outings
ATTACH;FMTTYPE=image/jpeg:https://uccprinceofpeace.com/wp-content/uploads/2016/02/timeforthree.jpg
ORGANIZER;CN="Prince of Peace UCC":MAILTO:info@uccprinceofpeace.com
END:VEVENT
BEGIN:VEVENT
DTSTART;TZID=UTC:20160219T183000
DTEND;TZID=UTC:20160219T203500
DTSTAMP:20260425T103444
CREATED:20160202T064457Z
LAST-MODIFIED:20160202T064952Z
UID:5962-1455906600-1455914100@uccprinceofpeace.com
SUMMARY:Bunco Night
DESCRIPTION:Bunco — ALL WELCOME —
URL:https://uccprinceofpeace.com/event/bunco-night/
LOCATION:Prince of Peace UCC\, 3050 West Smokey Row Rd.\, Bargersville\, 46106\, United States
CATEGORIES:Fellowships/Outings
ATTACH;FMTTYPE=image/jpeg:https://uccprinceofpeace.com/wp-content/uploads/2016/02/bunco.jpg
ORGANIZER;CN="Prince of Peace UCC":MAILTO:info@uccprinceofpeace.com
END:VEVENT
BEGIN:VEVENT
DTSTART;TZID=UTC:20160213T080000
DTEND;TZID=UTC:20160213T170000
DTSTAMP:20260425T103444
CREATED:20160202T060139Z
LAST-MODIFIED:20160202T060408Z
UID:5957-1455350400-1455382800@uccprinceofpeace.com
SUMMARY:Bowling @ Hi-Way Lanes
DESCRIPTION:Bowling at Hi-Way Lanes in Franklin
URL:https://uccprinceofpeace.com/event/bowling-hi-way-lanes/
LOCATION:Hi-Way Lanes\, 400 N Morton St.\, Franklin\, 46131\, United States
CATEGORIES:Fellowships/Outings
ATTACH;FMTTYPE=image/jpeg:https://uccprinceofpeace.com/wp-content/uploads/2016/02/bowling.jpg
ORGANIZER;CN="Prince of Peace UCC":MAILTO:info@uccprinceofpeace.com
END:VEVENT
BEGIN:VEVENT
DTSTART;TZID=UTC:20160207T150000
DTEND;TZID=UTC:20160207T170000
DTSTAMP:20260425T103444
CREATED:20160202T055501Z
LAST-MODIFIED:20160202T055543Z
UID:5951-1454857200-1454864400@uccprinceofpeace.com
SUMMARY:ISO @ CGHS
DESCRIPTION:The Indianapolis Symphony Orchestra presents Beethoven’s Fifth Symphony at Center Grove High School.
URL:https://uccprinceofpeace.com/event/iso-cghs/
LOCATION:Center Grove High School\, 2717 S Morgantown Rd.\, Greenwood\, 46143\, United States
CATEGORIES:Fellowships/Outings
ATTACH;FMTTYPE=image/png:https://uccprinceofpeace.com/wp-content/uploads/2016/02/ISO_Photo.png
ORGANIZER;CN="Prince of Peace UCC":MAILTO:info@uccprinceofpeace.com
END:VEVENT
BEGIN:VEVENT
DTSTART;TZID=UTC:20160103T103000
DTEND;TZID=UTC:20160103T120000
DTSTAMP:20260425T103444
CREATED:20151215T022016Z
LAST-MODIFIED:20151215T022016Z
UID:5929-1451817000-1451822400@uccprinceofpeace.com
SUMMARY:Unhanging of the Greens
DESCRIPTION:
URL:https://uccprinceofpeace.com/event/unhanging-of-the-greens/
LOCATION:Prince of Peace UCC\, 3050 West Smokey Row Rd.\, Bargersville\, 46106\, United States
CATEGORIES:Fellowships/Outings
ATTACH;FMTTYPE=image/jpeg:https://uccprinceofpeace.com/wp-content/uploads/2015/12/DSC04877e.jpg
ORGANIZER;CN="Prince of Peace UCC":MAILTO:info@uccprinceofpeace.com
END:VEVENT
BEGIN:VEVENT
DTSTART;TZID=UTC:20151128T100000
DTEND;TZID=UTC:20151128T130000
DTSTAMP:20260425T103444
CREATED:20151118T073911Z
LAST-MODIFIED:20151118T073911Z
UID:5705-1448704800-1448715600@uccprinceofpeace.com
SUMMARY:Hanging of the Greens
DESCRIPTION:Join in decorating our church\, followed by lunch at noon.
URL:https://uccprinceofpeace.com/event/hanging-of-the-greens/
LOCATION:Prince of Peace UCC\, 3050 West Smokey Row Rd.\, Bargersville\, 46106\, United States
CATEGORIES:Fellowships/Outings
ATTACH;FMTTYPE=image/jpeg:https://uccprinceofpeace.com/wp-content/uploads/2015/11/DSC04391.jpg
ORGANIZER;CN="Prince of Peace UCC":MAILTO:info@uccprinceofpeace.com
END:VEVENT
END:VCALENDAR