BEGIN:VCALENDAR
VERSION:2.0
PRODID:-//Prince of Peace UCC - ECPv6.15.17//NONSGML v1.0//EN
CALSCALE:GREGORIAN
METHOD:PUBLISH
X-ORIGINAL-URL:https://uccprinceofpeace.com
X-WR-CALDESC:Events for Prince of Peace UCC
REFRESH-INTERVAL;VALUE=DURATION:PT1H
X-Robots-Tag:noindex
X-PUBLISHED-TTL:PT1H
BEGIN:VTIMEZONE
TZID:America/Halifax
BEGIN:DAYLIGHT
TZOFFSETFROM:-0400
TZOFFSETTO:-0300
TZNAME:ADT
DTSTART:20160313T060000
END:DAYLIGHT
BEGIN:STANDARD
TZOFFSETFROM:-0300
TZOFFSETTO:-0400
TZNAME:AST
DTSTART:20161106T050000
END:STANDARD
BEGIN:DAYLIGHT
TZOFFSETFROM:-0400
TZOFFSETTO:-0300
TZNAME:ADT
DTSTART:20170312T060000
END:DAYLIGHT
BEGIN:STANDARD
TZOFFSETFROM:-0300
TZOFFSETTO:-0400
TZNAME:AST
DTSTART:20171105T050000
END:STANDARD
BEGIN:DAYLIGHT
TZOFFSETFROM:-0400
TZOFFSETTO:-0300
TZNAME:ADT
DTSTART:20180311T060000
END:DAYLIGHT
BEGIN:STANDARD
TZOFFSETFROM:-0300
TZOFFSETTO:-0400
TZNAME:AST
DTSTART:20181104T050000
END:STANDARD
END:VTIMEZONE
BEGIN:VTIMEZONE
TZID:UTC
BEGIN:STANDARD
TZOFFSETFROM:+0000
TZOFFSETTO:+0000
TZNAME:UTC
DTSTART:20140101T000000
END:STANDARD
END:VTIMEZONE
BEGIN:VEVENT
DTSTART;TZID=America/Halifax:20171221T190000
DTEND;TZID=America/Halifax:20171221T210000
DTSTAMP:20260425T100555
CREATED:20171201T025808Z
LAST-MODIFIED:20171201T042908Z
UID:6177-1513882800-1513890000@uccprinceofpeace.com
SUMMARY:Service of the Longest Night
DESCRIPTION:Thursday December 21 at 7:00 p.m. For many the Advent season and Christmas are not filled with the joy and happiness that has become associated with this time of year.  Many are dealing with the loss of a loved one\, a job\, medical challenges\, financial challenges\, depression\, loneliness and other situations making it far from being “the most wonderful time of the year\,” instead of a season of joy it is a time of pain. \nFor those who struggle\, we invite you to our Service of the Longest Night for a time of prayer and meditation\, a time of remembering and healing and a time of finding light in the midst of the darkness.  Come join us as we experience God’s love and in our darkness prepare our hearts for the coming of Christ\, the coming of light and hope.    All are welcome.
URL:https://uccprinceofpeace.com/event/service-of-the-longest-night/
LOCATION:Prince of Peace UCC\, 3050 West Smokey Row Rd.\, Bargersville\, 46106\, United States
CATEGORIES:Meetings
ATTACH;FMTTYPE=image/jpeg:https://uccprinceofpeace.com/wp-content/uploads/2015/12/candlelight.jpg
END:VEVENT
BEGIN:VEVENT
DTSTART;TZID=America/Halifax:20171126T130000
DTEND;TZID=America/Halifax:20171126T150000
DTSTAMP:20260425T100555
CREATED:20171201T030037Z
LAST-MODIFIED:20171201T042743Z
UID:6179-1511701200-1511708400@uccprinceofpeace.com
SUMMARY:Christmas Card Making Class
DESCRIPTION:Sunday November 26th 1:00- 3:00 p.m.  Penny McNeish is putting on another custom greeting card class\, with the focus being Christmas cards.  The cards shown represent the cards people can make.  No experience is necessary\, and all materials will be provided.  Public welcome.  To make sure there are enough materials for all who attend\, please RSVP through our “contact us” tab on the web page.
URL:https://uccprinceofpeace.com/event/christmas-card-making-class/
LOCATION:Prince of Peace UCC\, 3050 West Smokey Row Rd.\, Bargersville\, 46106\, United States
CATEGORIES:Meetings
ATTACH;FMTTYPE=image/jpeg:https://uccprinceofpeace.com/wp-content/uploads/2017/11/christmas-cards.jpeg
END:VEVENT
BEGIN:VEVENT
DTSTART;TZID=UTC:20160525T170000
DTEND;TZID=UTC:20160525T180000
DTSTAMP:20260425T100555
CREATED:20150302T022247Z
LAST-MODIFIED:20160505T082931Z
UID:6054-1464195600-1464199200@uccprinceofpeace.com
SUMMARY:4th Wednesday Book Club
DESCRIPTION:A Spool of Blue Thread
URL:https://uccprinceofpeace.com/event/4th-wednesday-book-club-3-2-2/
LOCATION:Prince of Peace UCC\, 3050 West Smokey Row Rd.\, Bargersville\, 46106\, United States
CATEGORIES:Meetings
ATTACH;FMTTYPE=image/jpeg:https://uccprinceofpeace.com/wp-content/uploads/2015/08/book-club-meeting.jpg
ORGANIZER;CN="Prince of Peace UCC":MAILTO:info@uccprinceofpeace.com
END:VEVENT
BEGIN:VEVENT
DTSTART;TZID=UTC:20160522T104500
DTEND;TZID=UTC:20160522T114500
DTSTAMP:20260425T100555
CREATED:20160505T082706Z
LAST-MODIFIED:20160505T082706Z
UID:6052-1463913900-1463917500@uccprinceofpeace.com
SUMMARY:Discussion on "Open & Affirming"
DESCRIPTION:Rev. Dr. Carrie Call leads a congregational discussion where worshippers can express their thoughts and feelings on whether POP should become an Open and Affirming UCC church.
URL:https://uccprinceofpeace.com/event/discussion-on-open-affirming-2/
LOCATION:Prince of Peace UCC\, 3050 West Smokey Row Rd.\, Bargersville\, 46106\, United States
CATEGORIES:Meetings
ORGANIZER;CN="Prince of Peace UCC":MAILTO:info@uccprinceofpeace.com
END:VEVENT
BEGIN:VEVENT
DTSTART;TZID=UTC:20160509T190000
DTEND;TZID=UTC:20160509T210000
DTSTAMP:20260425T100555
CREATED:20150302T015716Z
LAST-MODIFIED:20160505T080840Z
UID:6042-1462820400-1462827600@uccprinceofpeace.com
SUMMARY:Council Meeting
DESCRIPTION:Monthly council meeting.
URL:https://uccprinceofpeace.com/event/council-meeting-2-2-2-2/
LOCATION:Prince of Peace UCC\, 3050 West Smokey Row Rd.\, Bargersville\, 46106\, United States
CATEGORIES:Meetings
ATTACH;FMTTYPE=image/jpeg:https://uccprinceofpeace.com/wp-content/uploads/2015/12/conference-table.jpg
ORGANIZER;CN="Prince of Peace UCC":MAILTO:info@uccprinceofpeace.com
END:VEVENT
BEGIN:VEVENT
DTSTART;TZID=UTC:20160427T170000
DTEND;TZID=UTC:20160427T180000
DTSTAMP:20260425T100555
CREATED:20150302T022247Z
LAST-MODIFIED:20160505T080437Z
UID:6038-1461776400-1461780000@uccprinceofpeace.com
SUMMARY:4th Wednesday Book Club
DESCRIPTION:The Supremes as Earl’s All-You-Can-Eat
URL:https://uccprinceofpeace.com/event/4th-wednesday-book-club-3-2/
LOCATION:Prince of Peace UCC\, 3050 West Smokey Row Rd.\, Bargersville\, 46106\, United States
CATEGORIES:Meetings
ATTACH;FMTTYPE=image/jpeg:https://uccprinceofpeace.com/wp-content/uploads/2015/08/book-club-meeting.jpg
ORGANIZER;CN="Prince of Peace UCC":MAILTO:info@uccprinceofpeace.com
END:VEVENT
BEGIN:VEVENT
DTSTART;TZID=UTC:20160417T104500
DTEND;TZID=UTC:20160417T114500
DTSTAMP:20260425T100555
CREATED:20160505T082446Z
LAST-MODIFIED:20160505T082803Z
UID:6051-1460889900-1460893500@uccprinceofpeace.com
SUMMARY:Discussion on "Open & Affirming"
DESCRIPTION:Rev. Dr. Carrie Call leads discussion on balanced and practical review of what “Open & Affirming means”
URL:https://uccprinceofpeace.com/event/discussion-on-open-affirming/
LOCATION:Prince of Peace UCC\, 3050 West Smokey Row Rd.\, Bargersville\, 46106\, United States
CATEGORIES:Meetings
ORGANIZER;CN="Prince of Peace UCC":MAILTO:info@uccprinceofpeace.com
END:VEVENT
BEGIN:VEVENT
DTSTART;TZID=UTC:20160330T170000
DTEND;TZID=UTC:20160330T180000
DTSTAMP:20260425T100555
CREATED:20150302T022247Z
LAST-MODIFIED:20160315T065703Z
UID:5998-1459357200-1459360800@uccprinceofpeace.com
SUMMARY:4th Wednesday Book Club
DESCRIPTION:
URL:https://uccprinceofpeace.com/event/4th-wednesday-book-club-3/
LOCATION:Prince of Peace UCC\, 3050 West Smokey Row Rd.\, Bargersville\, 46106\, United States
CATEGORIES:Meetings
ATTACH;FMTTYPE=image/jpeg:https://uccprinceofpeace.com/wp-content/uploads/2015/08/book-club-meeting.jpg
ORGANIZER;CN="Prince of Peace UCC":MAILTO:info@uccprinceofpeace.com
END:VEVENT
BEGIN:VEVENT
DTSTART;TZID=UTC:20160314T190000
DTEND;TZID=UTC:20160314T210000
DTSTAMP:20260425T100555
CREATED:20150302T015716Z
LAST-MODIFIED:20160315T065912Z
UID:5999-1457982000-1457989200@uccprinceofpeace.com
SUMMARY:Council Meeting
DESCRIPTION:Monthly council meeting.
URL:https://uccprinceofpeace.com/event/council-meeting-2-2-2/
LOCATION:Prince of Peace UCC\, 3050 West Smokey Row Rd.\, Bargersville\, 46106\, United States
CATEGORIES:Meetings
ATTACH;FMTTYPE=image/jpeg:https://uccprinceofpeace.com/wp-content/uploads/2015/12/conference-table.jpg
ORGANIZER;CN="Prince of Peace UCC":MAILTO:info@uccprinceofpeace.com
END:VEVENT
BEGIN:VEVENT
DTSTART;TZID=UTC:20160309T170000
DTEND;TZID=UTC:20160309T183000
DTSTAMP:20260425T100555
CREATED:20160315T072253Z
LAST-MODIFIED:20160315T072253Z
UID:6008-1457542800-1457548200@uccprinceofpeace.com
SUMMARY:Brownies
DESCRIPTION:
URL:https://uccprinceofpeace.com/event/brownies/
LOCATION:Prince of Peace UCC\, 3050 West Smokey Row Rd.\, Bargersville\, 46106\, United States
CATEGORIES:Meetings
ATTACH;FMTTYPE=image/gif:https://uccprinceofpeace.com/wp-content/uploads/2016/03/girl-scouts.gif
ORGANIZER;CN="Prince of Peace UCC":MAILTO:info@uccprinceofpeace.com
END:VEVENT
BEGIN:VEVENT
DTSTART;TZID=UTC:20160224T173000
DTEND;TZID=UTC:20160224T183000
DTSTAMP:20260425T100555
CREATED:20151215T022247Z
LAST-MODIFIED:20160202T070504Z
UID:5965-1456335000-1456338600@uccprinceofpeace.com
SUMMARY:4th Wednesday Book Club
DESCRIPTION:Discussing the book\, “Hotel on the Corner of Bitter and Sweet”.
URL:https://uccprinceofpeace.com/event/4th-wednesday-book-club-2/
LOCATION:Prince of Peace UCC\, 3050 West Smokey Row Rd.\, Bargersville\, 46106\, United States
CATEGORIES:Meetings
ATTACH;FMTTYPE=image/jpeg:https://uccprinceofpeace.com/wp-content/uploads/2015/08/book-club-meeting.jpg
ORGANIZER;CN="Prince of Peace UCC":MAILTO:info@uccprinceofpeace.com
END:VEVENT
BEGIN:VEVENT
DTSTART;TZID=UTC:20160208T190000
DTEND;TZID=UTC:20160208T210000
DTSTAMP:20260425T100555
CREATED:20151215T015716Z
LAST-MODIFIED:20160202T055748Z
UID:5954-1454958000-1454965200@uccprinceofpeace.com
SUMMARY:Council Meeting
DESCRIPTION:Monthly council meeting.
URL:https://uccprinceofpeace.com/event/council-meeting-2-2/
LOCATION:Prince of Peace UCC\, 3050 West Smokey Row Rd.\, Bargersville\, 46106\, United States
CATEGORIES:Meetings
ATTACH;FMTTYPE=image/jpeg:https://uccprinceofpeace.com/wp-content/uploads/2015/12/conference-table.jpg
ORGANIZER;CN="Prince of Peace UCC":MAILTO:info@uccprinceofpeace.com
END:VEVENT
BEGIN:VEVENT
DTSTART;TZID=UTC:20160131T103000
DTEND;TZID=UTC:20160131T113000
DTSTAMP:20260425T100555
CREATED:20151215T022426Z
LAST-MODIFIED:20151215T022426Z
UID:5931-1454236200-1454239800@uccprinceofpeace.com
SUMMARY:Congregational Meeting
DESCRIPTION:
URL:https://uccprinceofpeace.com/event/congregational-meeting/
LOCATION:Prince of Peace UCC\, 3050 West Smokey Row Rd.\, Bargersville\, 46106\, United States
CATEGORIES:Meetings
ATTACH;FMTTYPE=image/jpeg:https://uccprinceofpeace.com/wp-content/uploads/2015/12/DSC04878e.jpg
ORGANIZER;CN="Prince of Peace UCC":MAILTO:info@uccprinceofpeace.com
END:VEVENT
BEGIN:VEVENT
DTSTART;TZID=UTC:20160127T173000
DTEND;TZID=UTC:20160127T183000
DTSTAMP:20260425T100555
CREATED:20151215T022247Z
LAST-MODIFIED:20151215T022247Z
UID:5930-1453915800-1453919400@uccprinceofpeace.com
SUMMARY:4th Wednesday Book Club
DESCRIPTION:Discussing the book\, “Me Before You”.
URL:https://uccprinceofpeace.com/event/4th-wednesday-book-club/
LOCATION:Prince of Peace UCC\, 3050 West Smokey Row Rd.\, Bargersville\, 46106\, United States
CATEGORIES:Meetings
ATTACH;FMTTYPE=image/jpeg:https://uccprinceofpeace.com/wp-content/uploads/2015/08/book-club-meeting.jpg
ORGANIZER;CN="Prince of Peace UCC":MAILTO:info@uccprinceofpeace.com
END:VEVENT
BEGIN:VEVENT
DTSTART;TZID=UTC:20160111T190000
DTEND;TZID=UTC:20160111T210000
DTSTAMP:20260425T100555
CREATED:20151215T015716Z
LAST-MODIFIED:20151215T015745Z
UID:5916-1452538800-1452546000@uccprinceofpeace.com
SUMMARY:Council Meeting
DESCRIPTION:Monthly council meeting.
URL:https://uccprinceofpeace.com/event/council-meeting-2/
LOCATION:Prince of Peace UCC\, 3050 West Smokey Row Rd.\, Bargersville\, 46106\, United States
CATEGORIES:Meetings
ATTACH;FMTTYPE=image/jpeg:https://uccprinceofpeace.com/wp-content/uploads/2015/12/conference-table.jpg
ORGANIZER;CN="Prince of Peace UCC":MAILTO:info@uccprinceofpeace.com
END:VEVENT
BEGIN:VEVENT
DTSTART;TZID=UTC:20151214T190000
DTEND;TZID=UTC:20151214T210000
DTSTAMP:20260425T100555
CREATED:20151215T015716Z
LAST-MODIFIED:20151215T015716Z
UID:5914-1450119600-1450126800@uccprinceofpeace.com
SUMMARY:Council Meeting
DESCRIPTION:Monthly council meeting.
URL:https://uccprinceofpeace.com/event/council-meeting/
LOCATION:Prince of Peace UCC\, 3050 West Smokey Row Rd.\, Bargersville\, 46106\, United States
CATEGORIES:Meetings
ATTACH;FMTTYPE=image/jpeg:https://uccprinceofpeace.com/wp-content/uploads/2015/12/conference-table.jpg
ORGANIZER;CN="Prince of Peace UCC":MAILTO:info@uccprinceofpeace.com
END:VEVENT
END:VCALENDAR